BEGIN:VCALENDAR
VERSION:2.0
PRODID:-//3nity.com//3nity CMS//EN
BEGIN:VEVENT
SUMMARY:Jesus Calls Worship Centre Intl. - Manzini, Eswatini
UID:2026-07-18-1204143@tudorbismark.org
SEQUENCE:0
STATUS:CONFIRMED
DTSTART:20260401T190000
DTEND:20260401T210000
DTSTAMP:20161222T120000
DESCRIPTION:Apostle Robert Kasaro
URL:http://tudorbismark.org
END:VEVENT
END:VCALENDAR
