BEGIN:VCALENDAR
VERSION:2.0
PRODID:-//3nity.com//3nity CMS//EN
BEGIN:VEVENT
SUMMARY:Joshua Giles Ministries MANTLES CONFERENCE 2024
UID:2024-07-16-1088789@tudorbismark.org
SEQUENCE:0
STATUS:CONFIRMED
DTSTART:20240712T190000
DTEND:20240712T210000
DTSTAMP:20161222T120000
DESCRIPTION:Host: Prophet Joshua Giles\n
URL:http://tudorbismark.org
END:VEVENT
END:VCALENDAR
